BEGIN:VCALENDAR
VERSION:2.0
PRODID:-//Cerf qui Chante - ECPv6.11.2//NONSGML v1.0//EN
CALSCALE:GREGORIAN
METHOD:PUBLISH
X-ORIGINAL-URL:https://www.therapie-chamanisme.fr
X-WR-CALDESC:Évènements pour Cerf qui Chante
REFRESH-INTERVAL;VALUE=DURATION:PT1H
X-Robots-Tag:noindex
X-PUBLISHED-TTL:PT1H
BEGIN:VTIMEZONE
TZID:Europe/Helsinki
BEGIN:DAYLIGHT
TZOFFSETFROM:+0200
TZOFFSETTO:+0300
TZNAME:EEST
DTSTART:20240331T010000
END:DAYLIGHT
BEGIN:STANDARD
TZOFFSETFROM:+0300
TZOFFSETTO:+0200
TZNAME:EET
DTSTART:20241027T010000
END:STANDARD
END:VTIMEZONE
BEGIN:VEVENT
DTSTART;TZID=Europe/Helsinki:20240524T180000
DTEND;TZID=Europe/Helsinki:20240526T170000
DTSTAMP:20260426T053221
CREATED:20221212T110912Z
LAST-MODIFIED:20240119T212548Z
UID:4304-1716573600-1716742800@www.therapie-chamanisme.fr
SUMMARY:Stage de base "Chamanisme européen"
DESCRIPTION:Ouvert à tous\, pas de prérequis. Après la participation au stage de base\, vous avez suffisamment d’expérience pour avoir accès à tous les stages avancés\, le cycle et la formation. \nLe stage de base s’adresse à toute personne qui désire de plonger dans l’univers du chamanisme pratiqué par Cerf qui Chante\, de recevoir ses enseignements et d’apprendre les techniques. \nTrouvez toutes les explications sur le chamanisme que je propose ICI \nPendant ce stage vous allez apprendre les bases pour entrer en transe et voyager en toute sécurité dans les mondes invisible. \nVous allez apprendre à \n\nvous protéger pour voyager en sécurité\nrecevoir des enseignements directement des esprits\nétablir une vraie relation avec la nature\nvous (re-)mettre dans votre pouvoir\nutiliser les principales outils chamaniques (tambour\, chant\, danse)\nse laisser porter par l’énergie collectif d’un groupe\ns’exprimer dans le groupe\n\nAu programme: \n\nsituer le chamanisme pour occidentaux dans notre temps moderne\nsignification corps – mental – âme – esprit\nprotection et sécurité\nconnexion mère Terre et père Ciel\nvoyage chamanique dans le monde d’en bas\, les esprits des animaux et les esprits des végétaux\nvoyage chamanique dans le monde d’en haut et les êtres de lumière\ncommunication avec les esprits de la nature en forêt (le monde du milieu)\ncercles de tambours\nchant chamanique\ndanse chamanique\nla roue médecine\ncercles de paroles\n\n* Prêt des tambours chamaniques avec possibilité d’achat. (peau de cerf et de bison d’Europe\, fabrication artisanal en Dordogne\, entre 250€ et 400€) \nInformations pratiques :\n\nLe lieu : Chez nous à Montpezat d'Agenais (cliquez)\n\nDu vendredi 24 mai 2024 à 18h au dimanche 26 mai à 17h.\n\nPrix du stage tout compris – pension complète (incluant 2 nuitées et 6 repas principalement biologiques et locales):\n250€ en emplacement camping (160€ stage + 90€ hébergement)\n270€ en dortoir ( 160€ stage + 110€ hébergement)\n300€ en chambre individuelle (160€ stage + 140€ hébergement)\nInscription possible tant que des places sont disponible. \nPlaces limitées à 12 participants. \n\nS’inscrire en cliquant ici. \nL’inscription sera seulement validée à la réception des arrhes: \nun chèque de 100€ à l’ordre de Yves Deconinck\, envoyé à l’adresse postale suivante: \nYves Deconinck\, 614 Chemin de Talives\, 47360 Montpezat d’Agenais \nSur demande les arrhes peuvent être payé par virement. \n\nEn cas d'annulation de notre part\, nous vous rembourserons la totalité des arrhes (nous n'encaissons pas le chèque) \nou\, si vous le voulez\, gardons les arrhes pour un autre stage. \n\nEn cas d'annulation de votre part\, les arrhes (100€) ne seront pas remboursées\, \nmais si vous voulez faire le stage de base plus tard\, vous aurez le droit à une réduction de 50€. \n\nPour toute question n’hésitez pas à me contacter au 09 79 95 76 76 (tél. fixe\, pas de textos).
URL:https://www.therapie-chamanisme.fr/event/stage-de-base-chamanisme-europeen-10/
LOCATION:Le Grand Mouligné\, 701 Chemin de Talives\, Montpezat\, Lot-et-Garonne\, 47360\, France
CATEGORIES:Calendrier
END:VEVENT
END:VCALENDAR