BEGIN:VCALENDAR
VERSION:2.0
PRODID:-//Cerf qui Chante - ECPv6.11.2//NONSGML v1.0//EN
CALSCALE:GREGORIAN
METHOD:PUBLISH
X-WR-CALNAME:Cerf qui Chante
X-ORIGINAL-URL:https://www.therapie-chamanisme.fr
X-WR-CALDESC:Évènements pour Cerf qui Chante
REFRESH-INTERVAL;VALUE=DURATION:PT1H
X-Robots-Tag:noindex
X-PUBLISHED-TTL:PT1H
BEGIN:VTIMEZONE
TZID:Europe/Helsinki
BEGIN:DAYLIGHT
TZOFFSETFROM:+0200
TZOFFSETTO:+0300
TZNAME:EEST
DTSTART:20240331T010000
END:DAYLIGHT
BEGIN:STANDARD
TZOFFSETFROM:+0300
TZOFFSETTO:+0200
TZNAME:EET
DTSTART:20241027T010000
END:STANDARD
END:VTIMEZONE
BEGIN:VEVENT
DTSTART;TZID=Europe/Helsinki:20240614T180000
DTEND;TZID=Europe/Helsinki:20240616T170000
DTSTAMP:20260426T035627
CREATED:20221212T113704Z
LAST-MODIFIED:20240604T090451Z
UID:4318-1718388000-1718557200@www.therapie-chamanisme.fr
SUMMARY:Stage avancé "Les quatre éléments"
DESCRIPTION:Prérequis: avoir suivi le stage de base avec Cerf qui Chante. \nCe stage se déroule chez nous à Montpezat d’Agenais (47)\, dans le Sud Ouest de la France. \nSans la présence des quatre éléments\, pas de vie possibles. Il suffi qu’il en manque un et nous mourrons. Dans le désert\, nous risquons de mourir par manque d’eau. Sur la banquise\, nous manquons l’élément feu. Sous l’eau\, nous nous noyons faute de l’air. Sans nourriture nous mourrons par manque d’élément terre. Nous avons donc besoin de tous les éléments\, mais les éléments peuvent aussi être néfaste quand ils sont trop présents. Nous pouvons nous brûler\, se noyer\, subir des tempêtes\, des tremblement de terre ou encore trop manger. \nPour favoriser la fluidité et se mettre entièrement dans la vie sans craintes\, bien équilibré\, nous pouvons faire des éléments nos alliés. \nCe stage est là dans ce but. \nAu programme:\n\nsituer les éléments dans la roue médecine\nvoyages chamaniques pour recevoir la médecine des éléments sacrés à la rencontre d’un dragon d’élément (4 voyages pour 4 éléments)\ndanse de la terre (peint avec de l’argile en forêt)\ndanse de l’eau (dans un petit lac)\ndanse du feu (la nuit avec un grand feu)\ndanse de l’air (le matin dans une prairie)\ndanse des quatre éléments (dans la salle)\nsoigner avec les éléments\ncercles de paroles\n\n* Prêt des tambours chamaniques avec possibilité d’achat. (peau de cerf et de bison d’Europe\, fabrication artisanal en Dordogne\, entre 240€ et 400€) \n\n\n  \nInformations pratiques :\n\nLe lieu : Chez nous à Montpezat d'Agenais (cliquez)\n\nDu vendredi 14 juin 2024 à 18h au dimanche 16 juin à 17h.\nPrix du stage tout compris – pension complète (incluant 2 nuitées et 6 repas principalement biologiques et locales):\n250€ en emplacement camping (160€ stage + 90€ hébergement)\n270€ en dortoir ( 160€ stage + 110€ hébergement)\n300€ / personne en chambre individuelle ou couple (stage 160€ + hébergement 140€)\nLe stage dans le cadre de la formation correspond à 130€.\nInscription possible tant que des places sont disponible.\nPetit groupe limitée à 12 personnes.\n\nS’inscrire en cliquant ici en précisons nom\, prénom\, courriel\, téléphone\, ville\, nom et date du stage.\nL’inscription sera seulement validée à la réception des arrhes: \nun chèque de 100€ à l’ordre de Yves Deconinck\, envoyé à l’adresse postale suivante:\nYves Deconinck\, 614 Chemin de Talives\, 47360 Montpezat d’Agenais\nSur demande les arrhes peuvent être payé par virement.\n\nEn cas d'annulation de notre part\, nous vous rembourserons la totalité (nous n'encaissons pas le chèque) \nou\, si vous le voulez\, gardons les arrhes pour un autre stage. \n\nEn cas d'annulation de votre part\, les arrhes (100€) ne seront pas remboursées\, \nmais si vous voulez faire le stage ou un camp plus tard\, vous aurez le droit à une réduction de 50€. \n\nPour toute question n’hésitez pas à me contacter au 09 79 95 76 76 (tél. fixe\, pas de textos).
URL:https://www.therapie-chamanisme.fr/event/stage-avance-les-quatre-elements-2/
LOCATION:Le Grand Mouligné\, 701 Chemin de Talives\, Montpezat\, Lot-et-Garonne\, 47360\, France
CATEGORIES:Calendrier
END:VEVENT
BEGIN:VEVENT
DTSTART;TZID=Europe/Helsinki:20240621T180000
DTEND;TZID=Europe/Helsinki:20240623T170000
DTSTAMP:20260426T035627
CREATED:20240117T104204Z
LAST-MODIFIED:20240412T132110Z
UID:4813-1718992800-1719162000@www.therapie-chamanisme.fr
SUMMARY:Cycle "La roue médecine" : module 1
DESCRIPTION:Module 1 : La roue médecine \nCe module fait partie du cycle “La roue médecine”. \nAu programme : \n\ntravail sur la roue médecine à l’intérieur\nconstruire une roue de médecine à l’extérieur dans la nature\, puis connexions et ressentis de chaque direction et le centre\nenseignements sur ma version de la roue médecine\nhutte de sudation avec 4 portes ; 4 temps liés aux 4 directions\ncercle de tambours\nrangement hutte\ncercles de paroles\n\nTrouvez toute information supplémentaire sur la page du cycle “la roue médecine”.
URL:https://www.therapie-chamanisme.fr/event/cycle-la-roue-medecine-module-1-2/
LOCATION:Le Grand Mouligné\, 701 Chemin de Talives\, Montpezat\, Lot-et-Garonne\, 47360\, France
CATEGORIES:Calendrier
END:VEVENT
END:VCALENDAR