BEGIN:VCALENDAR
VERSION:2.0
PRODID:-//Cerf qui Chante - ECPv6.11.2//NONSGML v1.0//EN
CALSCALE:GREGORIAN
METHOD:PUBLISH
X-ORIGINAL-URL:https://www.therapie-chamanisme.fr
X-WR-CALDESC:Évènements pour Cerf qui Chante
REFRESH-INTERVAL;VALUE=DURATION:PT1H
X-Robots-Tag:noindex
X-PUBLISHED-TTL:PT1H
BEGIN:VTIMEZONE
TZID:Europe/Helsinki
BEGIN:DAYLIGHT
TZOFFSETFROM:+0200
TZOFFSETTO:+0300
TZNAME:EEST
DTSTART:20240331T010000
END:DAYLIGHT
BEGIN:STANDARD
TZOFFSETFROM:+0300
TZOFFSETTO:+0200
TZNAME:EET
DTSTART:20241027T010000
END:STANDARD
END:VTIMEZONE
BEGIN:VEVENT
DTSTART;TZID=Europe/Helsinki:20240910T193000
DTEND;TZID=Europe/Helsinki:20240910T220000
DTSTAMP:20260425T230100
CREATED:20240701T195058Z
LAST-MODIFIED:20240705T073121Z
UID:4988-1725996600-1726005600@www.therapie-chamanisme.fr
SUMMARY:Séance découverte "Cercles d'hommes"
DESCRIPTION:La séance découverte pour le cycle “Cercles d’hommes” est ouverte à tous les hommes\, gratuite\, mais sur inscription. \n\naccueil tisane\nallumage de la bougie\nchant\ncercles de paroles\ncercle de gratitude\ncercle de tambours et chant spontané\nsouffler la bougie\n\nPour plus d’info cliquez ICI
URL:https://www.therapie-chamanisme.fr/event/seance-decouverte-cercles-dhommes/
CATEGORIES:Calendrier
END:VEVENT
BEGIN:VEVENT
DTSTART;TZID=Europe/Helsinki:20240913T180000
DTEND;TZID=Europe/Helsinki:20240915T170000
DTSTAMP:20260425T230100
CREATED:20240117T110627Z
LAST-MODIFIED:20240703T101028Z
UID:4823-1726250400-1726419600@www.therapie-chamanisme.fr
SUMMARY:Stage de base "Chamanisme animiste européen"
DESCRIPTION:  \n\n\n\n  \nOuvert à tous\, pas de prérequis. Après la participation au stage de base\, vous avez suffisamment d’expérience pour avoir accès à tous les stages avancés\, le cycle et la formation. \nLe stage de base s’adresse à toute personne qui désire de plonger dans l’univers du chamanisme pratiqué par Cerf qui Chante\, de recevoir ses enseignements et d’apprendre les techniques. \nTrouvez toutes les explications sur le chamanisme que je propose ICI \nPendant ce stage vous allez apprendre les bases pour entrer en transe et voyager en toute sécurité dans les mondes invisible. \nVous allez apprendre à \n\nvous protéger pour voyager en sécurité\nrecevoir des enseignements directement des esprits\nétablir une vraie relation avec la nature\nvous (re-)mettre dans votre pouvoir\nutiliser les principales outils chamaniques (tambour\, chant\, danse)\nse laisser porter par l’énergie collectif d’un groupe\ns’exprimer dans le groupe\n\nAu programme: \n\nsituer le chamanisme pour occidentaux dans notre temps moderne\nsignification corps – mental – âme – esprit\nprotection et sécurité\nconnexion mère Terre et père Ciel\nvoyage chamanique dans le monde d’en bas\, les esprits des animaux et les esprits des végétaux\nvoyage chamanique dans le monde d’en haut et les êtres de lumière\ncommunication avec les esprits de la nature en forêt (le monde du milieu)\ncercles de tambours\nchant chamanique\ndanse chamanique\nla roue médecine\ncercles de paroles\n\n* Prêt des tambours chamaniques avec possibilité d’achat. (peau de cerf et de bison d’Europe\, fabrication artisanal en Dordogne\, entre 250€ et 400€) \nInformations pratiques :\n\nLe lieu : Chez nous à Montpezat d'Agenais (cliquez)\n\nDu vendredi 13 septembre 2024 à 18h au dimanche 15 septembre à 17h.\n\nPrix du stage tout compris – pension complète (incluant 2 nuitées et 6 repas principalement biologiques et locales):\n250€ en emplacement camping (160€ stage + 90€ hébergement)\n270€ en dortoir ( 160€ stage + 110€ hébergement)\n300€ en chambre individuelle (160€ stage + 140€ hébergement)\nInscription possible tant que des places sont disponible. \nPlaces limitées à 12 participants. \n\nS’inscrire en cliquant ici. \nL’inscription sera seulement validée à la réception des arrhes: \nun chèque de 100€ à l’ordre de Yves Deconinck\, envoyé à l’adresse postale suivante: \nYves Deconinck\, 614 Chemin de Talives\, 47360 Montpezat d’Agenais \nSur demande les arrhes peuvent être payé par virement. \n\nEn cas d'annulation de notre part\, nous vous rembourserons la totalité des arrhes (nous n'encaissons pas le chèque) \nou\, si vous le voulez\, gardons les arrhes pour un autre stage. \n\nEn cas d'annulation de votre part\, les arrhes (100€) ne seront pas remboursées\, \nmais si vous voulez faire le stage de base plus tard\, vous aurez le droit à une réduction de 50€. \n\nPour toute question n’hésitez pas à me contacter au 09 79 95 76 76 (tél. fixe\, pas de textos).
URL:https://www.therapie-chamanisme.fr/event/stage-de-base-chamanisme-europeen-9/
LOCATION:Le Grand Mouligné\, 701 Chemin de Talives\, Montpezat\, Lot-et-Garonne\, 47360\, France
CATEGORIES:Calendrier
END:VEVENT
BEGIN:VEVENT
DTSTART;TZID=Europe/Helsinki:20240919T150000
DTEND;TZID=Europe/Helsinki:20240922T170000
DTSTAMP:20260425T230100
CREATED:20240703T121726Z
LAST-MODIFIED:20240703T122133Z
UID:5055-1726758000-1727024400@www.therapie-chamanisme.fr
SUMMARY:Rencontre chamanique de Fonroque
DESCRIPTION:Rassemblement autour du chamanisme en Dordogne où je fait partie de l’équipe d’intervenants. \nJ’y propose 5 ateliers : \n\ndanse du feu\nl’univers Cro-Magnon\nrituel pour le deuil\nrencontre féminité et masculinité\nnotre pouvoir personnel\n\nPlus d’info ici : www.lesrencontresdefonroque.com
URL:https://www.therapie-chamanisme.fr/event/rencontre-chamanisme-de-fonroque/
LOCATION:camping Lou Tuquet\, 24500\, Fonroque\, France
CATEGORIES:Calendrier
END:VEVENT
END:VCALENDAR