BEGIN:VCALENDAR
VERSION:2.0
PRODID:-//Cerf qui Chante - ECPv6.11.2//NONSGML v1.0//EN
CALSCALE:GREGORIAN
METHOD:PUBLISH
X-WR-CALNAME:Cerf qui Chante
X-ORIGINAL-URL:https://www.therapie-chamanisme.fr
X-WR-CALDESC:Évènements pour Cerf qui Chante
REFRESH-INTERVAL;VALUE=DURATION:PT1H
X-Robots-Tag:noindex
X-PUBLISHED-TTL:PT1H
BEGIN:VTIMEZONE
TZID:Europe/Helsinki
BEGIN:DAYLIGHT
TZOFFSETFROM:+0200
TZOFFSETTO:+0300
TZNAME:EEST
DTSTART:20240331T010000
END:DAYLIGHT
BEGIN:STANDARD
TZOFFSETFROM:+0300
TZOFFSETTO:+0200
TZNAME:EET
DTSTART:20241027T010000
END:STANDARD
END:VTIMEZONE
BEGIN:VEVENT
DTSTART;TZID=Europe/Helsinki:20241004T180000
DTEND;TZID=Europe/Helsinki:20241006T170000
DTSTAMP:20260425T212152
CREATED:20230629T154750Z
LAST-MODIFIED:20240119T212031Z
UID:4688-1728064800-1728234000@www.therapie-chamanisme.fr
SUMMARY:Stage avancé "L'univers Cro-Magnon du Mésolithique"
DESCRIPTION:  \n\nPrérequis: avoir suivi le stage de base avec Cerf qui Chante. \nAu programme:\n\n cercle de bâtons frappés (ancêtre du tambour)\ncercle de tambours chanté\nvoyages chamaniques vers le temps du Cro-Magnon\npeindre nos préoccupations\ncréer des symboles\npeintures faciales pour fusionner avec les esprits et renforcer nos intentions (facile à laver)\ndanses de connexion\nhabiter l’esprit Cro-Magnon dans la nature (en forêt)\nrituel d’invocation collectif (autour du Feu sacré)\nrituel de la reconnaissance d’être en vie\, en bonne santé et d’avoir à manger: autour du Feu sacré (si le temps le permet)\nun repas en lien avec la vie de nos ancêtres préhistoriques\n\n\nExceptionnellement il y aura un repas avec de la viande (bio ou gibier) pour un repas bien particulier\, lié au Cro-Magnon. Pendant ce repas on mange sans couverts et sans langue verbale (juste avec des petits bruits et des signes). Pour les végétariens: manger de la viande n’est pas obligatoire\, il y aura pour vous un alternatif. Si non\, tous les autres repas sont entièrement végétariens et principalement biologiques. \n  \n\n* Prêt des tambours chamaniques avec possibilité d’achat. (peau de cerf et de bison d’Europe\, fabrication artisanal en Dordogne\, entre 160€ et 290€) \nInformations pratiques :\n\nLe lieu : Chez nous à Montpezat d'Agenais (cliquez)\n\nDu vendredi 4 octobre 2022 à 18h au dimanche 6 octobre à 17h.\n\nPrix du stage tout compris – pension complète (incluant 2 nuitées et 6 repas principalement biologiques et locales):\n250€ en emplacement camping (160€ stage + 90€ hébergement)\n270€ en dortoir ( 160€ stage + 110€ hébergement)\n300€ / personne en chambre individuelle ou couple (stage 160€ + hébergement 140€)\nLe stage dans le cadre de la formation correspond à 130€.\nInscription possible tant que des places sont disponible.\nPlaces limitées à 12 personnes.\n\nS’inscrire en cliquant ici en précisons nom\, prénom\, courriel\, téléphone\, ville\, nom et date du stage.\nL’inscription sera seulement validée à la réception des arrhes: \nun chèque de 100€ à l’ordre de Yves Deconinck\, envoyé à l’adresse postale suivante:\nYves Deconinck\, 614 Chemin de Talives\, 47360 Montpezat d’Agenais\nSur demande les arrhes peuvent être payé par virement.\n\nEn cas d'annulation de notre part\, nous vous rembourserons la totalité (nous n'encaissons pas le chèque) \nou\, si vous le voulez\, gardons les arrhes pour un autre stage. \n\nEn cas d'annulation de votre part\, les arrhes (100€) ne seront pas remboursées\, \nmais si vous voulez faire le stage ou un camp plus tard\, vous aurez le droit à une réduction de 50€. \n\nPour toute question n’hésitez pas à me contacter au 09 79 95 76 76 (tél. fixe\, pas de textos).
URL:https://www.therapie-chamanisme.fr/event/stage-avance-lunivers-cro-magnon-du-mesolithique/
LOCATION:Le Grand Mouligné\, 701 Chemin de Talives\, Montpezat\, Lot-et-Garonne\, 47360\, France
CATEGORIES:Calendrier
END:VEVENT
BEGIN:VEVENT
DTSTART;TZID=Europe/Helsinki:20241008T193000
DTEND;TZID=Europe/Helsinki:20241008T220000
DTSTAMP:20260425T212152
CREATED:20240703T093708Z
LAST-MODIFIED:20240705T073317Z
UID:5026-1728415800-1728424800@www.therapie-chamanisme.fr
SUMMARY:Cercle d'hommes
DESCRIPTION:Premier cercle engagé du cycle “Cercles d’hommes”\, groupe fermé. \n\naccueil tisane\nallumage de la bougie\nchant\ncercles de paroles\ncercle de gratitude\ncercle de tambours et chant spontané\nsouffler la bougie\n\nSi vous avez manqué la séance découverte du 10 septembre\, vous pouvez quand même encore vous inscrire pour le cycle et venir (si vous êtes un homme). \nPlus d’info ICI.
URL:https://www.therapie-chamanisme.fr/event/cercle-dhommes-10/
CATEGORIES:Calendrier
END:VEVENT
END:VCALENDAR