BEGIN:VCALENDAR
VERSION:2.0
PRODID:-//Cerf qui Chante - ECPv6.11.2//NONSGML v1.0//EN
CALSCALE:GREGORIAN
METHOD:PUBLISH
X-WR-CALNAME:Cerf qui Chante
X-ORIGINAL-URL:https://www.therapie-chamanisme.fr
X-WR-CALDESC:Évènements pour Cerf qui Chante
REFRESH-INTERVAL;VALUE=DURATION:PT1H
X-Robots-Tag:noindex
X-PUBLISHED-TTL:PT1H
BEGIN:VTIMEZONE
TZID:Europe/Helsinki
BEGIN:DAYLIGHT
TZOFFSETFROM:+0200
TZOFFSETTO:+0300
TZNAME:EEST
DTSTART:20240331T010000
END:DAYLIGHT
BEGIN:STANDARD
TZOFFSETFROM:+0300
TZOFFSETTO:+0200
TZNAME:EET
DTSTART:20241027T010000
END:STANDARD
END:VTIMEZONE
BEGIN:VEVENT
DTSTART;TZID=Europe/Helsinki:20241108T180000
DTEND;TZID=Europe/Helsinki:20241110T170000
DTSTAMP:20260425T192154
CREATED:20240117T100554Z
LAST-MODIFIED:20240929T170815Z
UID:4805-1731088800-1731258000@www.therapie-chamanisme.fr
SUMMARY:Stage "Être homme sur Terre"
DESCRIPTION:Stage uniquement pour hommes\,\navec la pratique d’une hutte de sudation.\nIl ne demande pas de prérequis et ne donne pas accès aux stages avancé. Il s’agit donc d’un stage à part des autres. \nCe stage se déroule chez nous à Montpezat d’Agenais (47)\, dans le Sud Ouest de la France. \n  \nPour tous les hommes – pères de famille\, mariés\, célibataires… \nQue signifie “être un homme” ? \nSuis-je bien un homme ? \nOù est ma place sur cette terre ? \nOù se trouvent mes fondations pour me construire ? \nNous allons voir de plus prêt notre coté fils\, frère\, époux (même si nous sommes célibataire)\, père (même si nous n’avons pas d’enfants) et homme au sein de la tribu. Ce sont les thèmes des cinq portes à la hutte de sudation. Puis\, nous allons à la recherche de notre masculin et notre féminin. Pendant ce stage nous mettrons nos relations au centre de nos partages\, et celles avec les femmes en premier. \nAu programme: \n\ncercles de paroles\ncercles de tambours\nhonorer notre masculin\nhonorer notre féminin\nchants avec paroles\nchants spontanés\ndanse des hommes\ndanse chantée puissante inspiré du haka des Maori\nprières\nhonorer notre mère Terre et notre père Ciel\nhutte de sudation\n\nVous trouvez plus d’explication sur la cérémonie de la hutte de sudation ICI. \n* Prêt des tambours chamaniques avec possibilité d’achat. (peau de cerf et de bison d’Europe\, fabrication artisanal en Dordogne\, entre 250€ et 400€) \n\nInformations pratiques :\n\nLe lieu : Chez nous à Montpezat d'Agenais (cliquez)\n\nDu vendredi 8 novembre 2024 à 18h au dimanche 10 novembre à 17h.\nPrix du stage tout compris – pension complète (incluant 2 nuitées et 6 repas principalement biologiques et locales):\n270€ en emplacement camping (180€ stage + 90€ hébergement)\n290€ en dortoir ( 180€ stage + 110€ hébergement)\n320€ / personne en chambre individuelle ou couple (stage 180€ + hébergement 140€)\nLe stage dans le cadre de la formation correspond à 140€.\nInscription possible tant que des places sont disponible.\nPetit groupe limitée à 12 personnes.\n\nS’inscrire en cliquant ici en précisons nom\, prénom\, courriel\, téléphone\, ville\, nom et date du stage.\nL’inscription sera seulement validée à la réception des arrhes: \nun chèque de 100€ à l’ordre de Yves Deconinck\, envoyé à l’adresse postale suivante:\nYves Deconinck\, 614 Chemin de Talives\, 47360 Montpezat d’Agenais\nSur demande les arrhes peuvent être payé par virement.\n\nEn cas d'annulation de notre part\, nous vous rembourserons la totalité (nous n'encaissons pas le chèque) \nou\, si vous le voulez\, gardons les arrhes pour un autre stage. \n\nEn cas d'annulation de votre part\, les arrhes (100€) ne seront pas remboursées\, \nmais si vous voulez faire le stage ou un camp plus tard\, vous aurez le droit à une réduction de 50€. \n\nPour toute question n’hésitez pas à me contacter au 09 79 95 76 76 (tél. fixe\, pas de textos).
URL:https://www.therapie-chamanisme.fr/event/stage-etre-homme-sur-terre-8/
LOCATION:Le Grand Mouligné\, 701 Chemin de Talives\, Montpezat\, Lot-et-Garonne\, 47360\, France
CATEGORIES:Calendrier
END:VEVENT
BEGIN:VEVENT
DTSTART;TZID=Europe/Helsinki:20241112T193000
DTEND;TZID=Europe/Helsinki:20241112T220000
DTSTAMP:20260425T192154
CREATED:20240703T091531Z
LAST-MODIFIED:20240705T073422Z
UID:5008-1731439800-1731448800@www.therapie-chamanisme.fr
SUMMARY:Cercle d'hommes
DESCRIPTION:Cercle d’hommes pour un groupe fermé. \n\naccueil tisane\nallumage de la bougie\nchant\ncercles de paroles\ncercle de gratitude\ncercle de tambours et chant spontané\nsouffler la bougie\n\nSi vous êtes intéressé\, la prochaine rendez-vous pour une séance de découverte est le 9 septembre 2025\, sur inscription. \nPlus d’info ICI.
URL:https://www.therapie-chamanisme.fr/event/cercle-dhommes-2/
CATEGORIES:Calendrier
END:VEVENT
BEGIN:VEVENT
DTSTART;TZID=Europe/Helsinki:20241116T090000
DTEND;TZID=Europe/Helsinki:20241117T110000
DTSTAMP:20260425T192154
CREATED:20240117T105051Z
LAST-MODIFIED:20240117T105051Z
UID:4817-1731747600-1731841200@www.therapie-chamanisme.fr
SUMMARY:Cycle "La roue médecine" : module 3
DESCRIPTION:Module 3 : La porte de l’ouest\nCe module fait partie du cycle “La roue médecine”. \nTrouvez toute information sur la page du cycle “la roue médecine”.
URL:https://www.therapie-chamanisme.fr/event/cycle-la-roue-medecine-module-3-2/
LOCATION:Le Grand Mouligné\, 701 Chemin de Talives\, Montpezat\, Lot-et-Garonne\, 47360\, France
CATEGORIES:Calendrier
END:VEVENT
END:VCALENDAR