BEGIN:VCALENDAR
VERSION:2.0
PRODID:-//Cerf qui Chante - ECPv6.11.2//NONSGML v1.0//EN
CALSCALE:GREGORIAN
METHOD:PUBLISH
X-WR-CALNAME:Cerf qui Chante
X-ORIGINAL-URL:https://www.therapie-chamanisme.fr
X-WR-CALDESC:Évènements pour Cerf qui Chante
REFRESH-INTERVAL;VALUE=DURATION:PT1H
X-Robots-Tag:noindex
X-PUBLISHED-TTL:PT1H
BEGIN:VTIMEZONE
TZID:Europe/Helsinki
BEGIN:DAYLIGHT
TZOFFSETFROM:+0200
TZOFFSETTO:+0300
TZNAME:EEST
DTSTART:20250330T010000
END:DAYLIGHT
BEGIN:STANDARD
TZOFFSETFROM:+0300
TZOFFSETTO:+0200
TZNAME:EET
DTSTART:20251026T010000
END:STANDARD
END:VTIMEZONE
BEGIN:VEVENT
DTSTART;TZID=Europe/Helsinki:20250208T090000
DTEND;TZID=Europe/Helsinki:20250209T110000
DTSTAMP:20260425T140058
CREATED:20240117T105237Z
LAST-MODIFIED:20240117T105237Z
UID:4819-1739005200-1739098800@www.therapie-chamanisme.fr
SUMMARY:Cycle "La roue médecine" : module 4
DESCRIPTION:Module 4 : La porte du nord\nCe module fait partie du cycle “La roue médecine”. \nTrouvez toute information sur la page du cycle “la roue médecine”.
URL:https://www.therapie-chamanisme.fr/event/cycle-la-roue-medecine-module-4-2/
LOCATION:Le Grand Mouligné\, 701 Chemin de Talives\, Montpezat\, Lot-et-Garonne\, 47360\, France
CATEGORIES:Calendrier
END:VEVENT
BEGIN:VEVENT
DTSTART;TZID=Europe/Helsinki:20250211T193000
DTEND;TZID=Europe/Helsinki:20250211T220000
DTSTAMP:20260425T140058
CREATED:20240703T092242Z
LAST-MODIFIED:20240705T073642Z
UID:5014-1739302200-1739311200@www.therapie-chamanisme.fr
SUMMARY:Cercle d'hommes
DESCRIPTION:Cercle d’hommes pour un groupe fermé. \n\naccueil tisane\nallumage de la bougie\nchant\ncercles de paroles\ncercle de gratitude\ncercle de tambours et chant spontané\nsouffler la bougie\n\nSi vous êtes intéressé\, la prochaine rendez-vous pour une séance de découverte est le 9 septembre 2025\, sur inscription. \nPlus d’info ICI.
URL:https://www.therapie-chamanisme.fr/event/cercle-dhommes-5/
CATEGORIES:Calendrier
END:VEVENT
BEGIN:VEVENT
DTSTART;TZID=Europe/Helsinki:20250221T180000
DTEND;TZID=Europe/Helsinki:20250223T170000
DTSTAMP:20260425T140058
CREATED:20240117T111346Z
LAST-MODIFIED:20250221T102319Z
UID:4827-1740160800-1740330000@www.therapie-chamanisme.fr
SUMMARY:Stage avancé "Notre pouvoir personnel"
DESCRIPTION:Prérequis: avoir suivi le stage de base avec Cerf qui Chante. \nCe stage se déroule chez nous à Montpezat d’Agenais (47)\, dans le Sud Ouest de la France. \n  \n \n  \nLe mot “pouvoir” a souvent une mauvaise réputation. Il peut faire peur\, car il a été source de beaucoup de souffrance. Mais en réalité le pouvoir est seulement négatif si il va avec le mot “abus”. \nL’abus de son pouvoir personnel peut engendrer une emprise sur ceux qui ont (beaucoup) moins de pouvoir personnel\, les manipuler et les exploiter. Dans ce cas le pouvoir de celui qui abuse grandi\, il se nourrit des pouvoirs des autres. Il gagne et il prend. Il nourrit son égo. Mais ce chemin est un chemin d’un faux bonheur\, qui entraîne des souffrances pour tous\, la personne qui abuse compris. \nSi j’ai peu de pouvoir personnel\, je peux faire peu de choses\, mais surtout\, quelqu’un d’autre ou un groupe\, un addiction\, un institution… peut avoir un trop grande influence sur moi. Je n’ose ou je ne peux pas m’opposer. Je peux devenir esclave. On peut avoir une emprise sur moi et ma vie. \nChaque personne a besoin de reconnaissance. Mais si nous sommes trop dans l’attente de reconnaissance des autres\, nous donnons trop de notre pouvoir aux autres\, souvent sans se rendre compte. Nous allons voir comment d’être moins dans l’attente\, moins dans la dépendance. \nSans pouvoir personnel\, je m’efface. \nLe mot “pouvoir” est une verbe: Je peux. \nAvoir du pouvoir personnel veux dire aussi: \n\npouvoir me défendre\npouvoir me protéger\npouvoir m’opposer\npouvoir prendre ma place\npouvoir être pleinement dans la vie\npouvoir être pleinement moi\npouvoir aider mes proches et les autres\, pouvoir être attentif\npouvoir travailler\n\nA nous de mettre notre pouvoir personnel au service du bien-être des autres\, mais surtout du bien-être de nous-même : nous affirmer\, tout en respectant les autres. \nNotre défi : Faire grandir notre pouvoir personnel\, le rendre au service de la vie\, tout en restant humble. \n  \nAu programme\n\ncercle de paroles : prendre conscience des jeux de pouvoir\nenseignement : l’influence négative potentiel d’une personne ou d’un groupe\nl’importance de l’appartenance et de l’alliance\nanimaux de pouvoir\nse libérer des forces néfastes et des emprises\, de vouloir plaire aux autres et la culpabilité : nettoyages\nexercices corporels de connexion et de protection\nchant de pouvoir\ncercle de tambours\nposer sa voix aux milieu du cercle; présentation (parole et chant)\nprier en haute voix\nparler au grand-père Feu\ndanse chantée puissante inspiré du haka des Maori : faire remonter l’énergie de notre mère Terre\nse baigner ou se mouiller au lac en plein hiver (pas obligatoire)\ncercle de paroles : “Qu’est-ce que je veux?” – l’action juste\n\nJe m’affirme. \nJe suis Cerf qui Chante\, fils de mère Terre et de père Ciel. \nJ’appartiens à ma tribu de frères et sœurs de cœur. \nJ’appartiens à ma roue médecine. \nMon animal totem est le cerf élaphe. \nMes origines se trouvent en Belgique. \nMes montagnes sont les Pyrénées. \nMon pays c’est les coteaux de l’Aquitaine. \nEt vous? Qui est vous? \n  \nInformations pratiques :\n\nLe lieu : Chez nous à Montpezat d'Agenais (cliquez)\n\nDu vendredi 21 février 2025 à 18h au dimanche 23 février à 17h.\nPrix du stage tout compris – pension complète (incluant 2 nuitées et 6 repas principalement biologiques et locales):\n250€ en emplacement camping (160€ stage + 90€ hébergement)\n270€ en dortoir ( 160€ stage + 110€ hébergement)\n300€ / personne en chambre individuelle ou couple (stage 160€ + hébergement 140€)\nLe stage dans le cadre de la formation correspond à 130€.\nInscription possible tant que des places sont disponible.\nPetit groupe limitée à 12 personnes.\n\nS’inscrire en cliquant ici en précisons nom\, prénom\, courriel\, téléphone\, ville\, nom et date du stage.\nL’inscription sera seulement validée à la réception des arrhes: \nun chèque de 100€ à l’ordre de Yves Deconinck\, envoyé à l’adresse postale suivante:\nYves Deconinck\, 614 Chemin de Talives\, 47360 Montpezat d’Agenais\nSur demande les arrhes peuvent être payé par virement.\n\nEn cas d'annulation de notre part\, nous vous rembourserons la totalité (nous n'encaissons pas le chèque) \nou\, si vous le voulez\, gardons les arrhes pour un autre stage. \n\nEn cas d'annulation de votre part\, les arrhes (100€) ne seront pas remboursées. \nSi vous voulez faire un stage plus tard\, nous ne vous demanderons pas de nouveau des arrhes\, \nmais nous allons vous compter 50€ de vos arrhes comme frais d'annulation. \nIl vous restera donc 110€ ou 130€ à régler pour le stage à la place de 60€ ou 80€ le jour même. \nSi jamais vous annulez une deuxième fois\, les arrhes (50€) ne seront pas remboursées \net je vous demanderai 50€ d'arrhes supplémentaire si vous voulez toujours faire un stage plus tard. \n\nPour toute question n’hésitez pas à me contacter au 09 79 95 76 76 (tél. fixe\, pas de textos).
URL:https://www.therapie-chamanisme.fr/event/stage-avance-notre-pouvoir-personnel-2/
LOCATION:Le Grand Mouligné\, 701 Chemin de Talives\, Montpezat\, Lot-et-Garonne\, 47360\, France
CATEGORIES:Calendrier
END:VEVENT
END:VCALENDAR