BEGIN:VCALENDAR
VERSION:2.0
PRODID:-//Cerf qui Chante - ECPv6.11.2//NONSGML v1.0//EN
CALSCALE:GREGORIAN
METHOD:PUBLISH
X-WR-CALNAME:Cerf qui Chante
X-ORIGINAL-URL:https://www.therapie-chamanisme.fr
X-WR-CALDESC:Évènements pour Cerf qui Chante
REFRESH-INTERVAL;VALUE=DURATION:PT1H
X-Robots-Tag:noindex
X-PUBLISHED-TTL:PT1H
BEGIN:VTIMEZONE
TZID:Europe/Helsinki
BEGIN:DAYLIGHT
TZOFFSETFROM:+0200
TZOFFSETTO:+0300
TZNAME:EEST
DTSTART:20250330T010000
END:DAYLIGHT
BEGIN:STANDARD
TZOFFSETFROM:+0300
TZOFFSETTO:+0200
TZNAME:EET
DTSTART:20251026T010000
END:STANDARD
END:VTIMEZONE
BEGIN:VEVENT
DTSTART;TZID=Europe/Helsinki:20250610T193000
DTEND;TZID=Europe/Helsinki:20250610T220000
DTSTAMP:20260425T072019
CREATED:20240703T092600Z
LAST-MODIFIED:20240705T073941Z
UID:5022-1749583800-1749592800@www.therapie-chamanisme.fr
SUMMARY:Cercle d'hommes
DESCRIPTION:Cercle d’hommes pour un groupe fermé. \n\naccueil tisane\nallumage de la bougie\nchant\ncercles de paroles\ncercle de gratitude\ncercle de tambours et chant spontané\nsouffler la bougie\n\nSi vous êtes intéressé\, la prochaine rendez-vous pour une séance de découverte est le 9 septembre 2025\, sur inscription. \nPlus d’info ICI.
URL:https://www.therapie-chamanisme.fr/event/cercle-dhommes-9/
CATEGORIES:Calendrier
END:VEVENT
BEGIN:VEVENT
DTSTART;TZID=Europe/Helsinki:20250613T180000
DTEND;TZID=Europe/Helsinki:20250615T170000
DTSTAMP:20260425T072019
CREATED:20241128T175450Z
LAST-MODIFIED:20250410T210053Z
UID:5291-1749837600-1750006800@www.therapie-chamanisme.fr
SUMMARY:Stage avancé "Animaux européens de pouvoir"
DESCRIPTION:Le stage “animaux européens de pouvoir” fait parti du parcours “Animaux et végétaux européens de pouvoir”. \nIl s’agit d’un ensemble de deux stages\, animé par \nYves Deconinck (Cerf qui Chante) et Annelies Verstraeten \n\nStage « animaux européens de pouvoir »\nStage « Animal totem et végétaux européens de pouvoir »\n\nprérequis : stage de base “chamanisme animiste européen” \nLe stage “animaux européens de pouvoir”\nLe chaman ne se sent pas supérieur aux animaux. L’humain est juste un animal qui s’est spécialisé à créer. Il est devenu un maître à la création grâce à ces mains disponible tout en marchant debout sur ses pieds\, ce qui a stimulé le développement de son cerveau. Cela lui donne beaucoup d’avantages\, mais lui rend en même temps très dépendant. Sans matériel\, l’humain est très vulnérable. Comme animal il ne sait pas voler\, nage mal\, tiens pas longtemps sous l’eau\, résiste pas au froid\, court pas très vite\, etc. Tous les animaux se sont spécialisés et sont devenus des maîtres. Si on le veut\, on peut apprendre beaucoup des (autres) animaux. Ils peuvent nous transmettre des messages\, la force\, la clairvoyance\, le ruse\, la capacité de prendre distance\, d’aller à l’avant\, etc. L’esprit d’un animal sauvage peut devenir un vrai compagnon\, même pour la vie. Cette connexion permet le chaman de guérir\, et pas seulement. Les animaux sont en quelque sorte nos maîtres dont nous les devons le plus grand respect. \nAu programme :\n\nAvant de venir au stage : s’intéresser à la faune sauvage d’Europe\nnotions animaux incarnés – âmes des animaux – esprits animaux – animaux de pouvoir – animal totem\nensauvagement : “devenir” 6 animaux consécutifs (mammifère\, oiseau\, reptile\, amphibien\, poisson et insecte)\nvoyage chamanique à la rencontre d’un animal européen de pouvoir\ncommuniquer avec les animaux dans “le monde du milieu”\, dehors dans la nature\ndanse collective avec des animaux de pouvoirs\naccueillir l’animal du jour et son message au tambour\ndanse de connexion individuelle avec l’animal du jour\nchercher par voyage chamanique l’animal de pouvoir lié à une profession\, une tâche\, une épreuve\n\nTrouvez plus d’info sur le parcours “Animaux et végétaux européens de pouvoir” ICI.\n 
URL:https://www.therapie-chamanisme.fr/event/animaux-europeen-de-pouvoir/
CATEGORIES:Calendrier
END:VEVENT
END:VCALENDAR