BEGIN:VCALENDAR
VERSION:2.0
PRODID:-//Cerf qui Chante - ECPv6.11.2//NONSGML v1.0//EN
CALSCALE:GREGORIAN
METHOD:PUBLISH
X-WR-CALNAME:Cerf qui Chante
X-ORIGINAL-URL:https://www.therapie-chamanisme.fr
X-WR-CALDESC:Évènements pour Cerf qui Chante
REFRESH-INTERVAL;VALUE=DURATION:PT1H
X-Robots-Tag:noindex
X-PUBLISHED-TTL:PT1H
BEGIN:VTIMEZONE
TZID:Europe/Helsinki
BEGIN:DAYLIGHT
TZOFFSETFROM:+0200
TZOFFSETTO:+0300
TZNAME:EEST
DTSTART:20250330T010000
END:DAYLIGHT
BEGIN:STANDARD
TZOFFSETFROM:+0300
TZOFFSETTO:+0200
TZNAME:EET
DTSTART:20251026T010000
END:STANDARD
END:VTIMEZONE
BEGIN:VEVENT
DTSTART;TZID=Europe/Helsinki:20250905T180000
DTEND;TZID=Europe/Helsinki:20250907T170000
DTSTAMP:20260425T024147
CREATED:20250212T100202Z
LAST-MODIFIED:20250212T100202Z
UID:5358-1757095200-1757264400@www.therapie-chamanisme.fr
SUMMARY:Stage avancé "Nos ascendants"
DESCRIPTION:Prérequis: avoir suivi le stage de base avec Cerf qui Chante. \nCe stage se déroule chez nous à Montpezat d’Agenais (47)\, dans le Sud Ouest de la France. \nStage avec la pratique d’une hutte de sudation. \nNotre âme qui vie de vie en vie est incarné dans un corps d’humain. Ce corps est un héritage de nos ascendants humains. \nCe corps est un cadeau géniale. Nos ancêtres nous ont construit. Ils nous ont transmis des caractéristiques\, des dons\, des facilités\, des qualités… et même de la sagesse et du savoir faire. Mais il se peut que cet héritage contient aussi des non-dits\, des tabous\, des traditions limitants\, des souffrances\, des peurs\, des freins. \nPendant ce stage nous allons visiter les esprits de nos ascendants\, nous libérer de ce qui nous encombre et nous nourrir d’avantage de leurs qualités. Pour cela nous passons par une processus de réconciliation. \nAu programme :\n\ncercles de paroles\nenseignements mémoires et croyances transmises et caractéristiques génétiques\nvoyage chamanique vers notre lignée d’hommes (père\, grand-pères\, arrière-grand-pères\, etc.)\nvoyage chamanique vers notre lignée de femmes (mère\, grand-mères et arrière-grand-mères\, etc.)\nréconciliation et libération des traumatismes\, conditionnements\, non-dits\, tabous… avec rituel\naccueil et intégration de la force de vie\, dons\, savoirs-faire\, qualités\, appartenance et fierté\nhonorer nos ancêtres avec cercle de tambours\, chant et danse\nHUTTE DE SUDATION : parents – grand-parents – lointains ancêtres paysans – lointains ancêtres chasseurs-cueilleurs\n\n* Prêt des tambours chamaniques avec possibilité d’achat. (peau de cerf et de bison d’Europe\, fabrication artisanal en Dordogne\, entre 160€ et 290€) \n \n\n  \n\n\nInformations pratiques :\n\nLe lieu : Chez nous à Montpezat d'Agenais (cliquez)\n\nDu vendredi 5 septembre 2025 à 18h au dimanche 9 septembre à 17h.\nPrix du stage tout compris – pension complète (incluant 2 nuitées et 6 repas principalement biologiques et locales):\n270€ en emplacement camping (180€ stage + 90€ hébergement)\n290€ en dortoir ( 180€ stage + 110€ hébergement)\n320€ / personne en chambre individuelle ou couple (stage 180€ + hébergement 140€)\nLe stage dans le cadre de la formation correspond à 140€.\nInscription possible tant que des places sont disponible.\nPetit groupe limitée à 12 personnes.\n\nS’inscrire en cliquant ici en précisons nom\, prénom\, courriel\, téléphone\, ville\, nom et date du stage.\nL’inscription sera validée à la réception des arrhes. \n\nEn cas d'annulation de notre part\, nous vous rembourserons la totalité (nous n'encaissons pas le chèque) \nou\, si vous le voulez\, gardons les arrhes pour un autre stage. \n\nEn cas d'annulation de votre part\, les arrhes (100€) ne seront pas remboursées\, \nmais si vous voulez faire le stage ou un camp plus tard\, vous aurez le droit à une réduction de 50€.  \n\nPour toute question n’hésitez pas à me contacter au 09 79 95 76 76 (tél. fixe\, pas de textos).
URL:https://www.therapie-chamanisme.fr/event/stage-avance-nos-ascendants/
CATEGORIES:Calendrier
END:VEVENT
BEGIN:VEVENT
DTSTART;TZID=Europe/Helsinki:20250909T193000
DTEND;TZID=Europe/Helsinki:20250909T220000
DTSTAMP:20260425T024147
CREATED:20240703T092850Z
LAST-MODIFIED:20240703T092850Z
UID:5024-1757446200-1757455200@www.therapie-chamanisme.fr
SUMMARY:Séance découverte "Cercles d'hommes"
DESCRIPTION:9 septembre 2025 à 19 h 30  – 22 h 00 \n\n\n\n \nLa séance découverte pour le cycle “Cercles d’hommes” est ouverte à tous les hommes\, gratuite\, mais sur inscription. \nPour plus d’info cliquez ICI
URL:https://www.therapie-chamanisme.fr/event/seance-decouverte-cercles-dhommes-2/
CATEGORIES:Calendrier
END:VEVENT
BEGIN:VEVENT
DTSTART;TZID=Europe/Helsinki:20250926T180000
DTEND;TZID=Europe/Helsinki:20250928T170000
DTSTAMP:20260425T024147
CREATED:20240117T112847Z
LAST-MODIFIED:20240703T101408Z
UID:4836-1758909600-1759078800@www.therapie-chamanisme.fr
SUMMARY:Stage de base "Chamanisme animiste européen"
DESCRIPTION:Ouvert à tous\, pas de prérequis. Après la participation au stage de base\, vous avez suffisamment d’expérience pour avoir accès à tous les stages avancés\, le cycle et la formation. \nLe stage de base s’adresse à toute personne qui désire de plonger dans l’univers du chamanisme pratiqué par Cerf qui Chante\, de recevoir ses enseignements et d’apprendre les techniques. \nTrouvez toutes les explications sur le chamanisme que je propose ICI \nPendant ce stage vous allez apprendre les bases pour entrer en transe et voyager en toute sécurité dans les mondes invisible. \nVous allez apprendre à \n\nvous protéger pour voyager en sécurité\nrecevoir des enseignements directement des esprits\nétablir une vraie relation avec la nature\nvous (re-)mettre dans votre pouvoir\nutiliser les principales outils chamaniques (tambour\, chant\, danse)\nse laisser porter par l’énergie collectif d’un groupe\ns’exprimer dans le groupe\n\nAu programme: \n\nsituer le chamanisme pour occidentaux dans notre temps moderne\nsignification corps – mental – âme – esprit\nprotection et sécurité\nconnexion mère Terre et père Ciel\nvoyage chamanique dans le monde d’en bas\, les esprits des animaux et les esprits des végétaux\nvoyage chamanique dans le monde d’en haut et les êtres de lumière\ncommunication avec les esprits de la nature en forêt (le monde du milieu)\ncercles de tambours\nchant chamanique\ndanse chamanique\nla roue médecine\ncercles de paroles\n\n* Prêt des tambours chamaniques avec possibilité d’achat. (peau de cerf et de bison d’Europe\, fabrication artisanal en Dordogne\, entre 250€ et 400€) \nInformations pratiques :\n\nLe lieu : Chez nous à Montpezat d'Agenais (cliquez)\n\nDu vendredi 26 septembre 2025 à 18h au dimanche 28 septembre à 17h.\n\nPrix du stage tout compris – pension complète (incluant 2 nuitées et 6 repas principalement biologiques et locales):\n250€ en emplacement camping (160€ stage + 90€ hébergement)\n270€ en dortoir ( 160€ stage + 110€ hébergement)\n300€ en chambre individuelle (160€ stage + 140€ hébergement)\nInscription possible tant que des places sont disponible. \nPlaces limitées à 12 participants. \n\nS’inscrire en cliquant ici. \nL’inscription sera seulement validée à la réception des arrhes: \nun chèque de 100€ à l’ordre de Yves Deconinck\, envoyé à mon adresse.\nSur demande les arrhes peuvent être payé par virement. \n\nEn cas d'annulation de notre part\, nous vous rembourserons la totalité des arrhes (nous n'encaissons pas le chèque) \nou\, si vous le voulez\, gardons les arrhes pour un autre stage. \n\nEn cas d'annulation de votre part\, les arrhes (100€) ne seront pas remboursées\, \nmais si vous voulez faire le stage de base plus tard\, vous aurez le droit à une réduction de 50€. \n\nPour toute question n’hésitez pas à me contacter au 09 79 95 76 76 (tél. fixe\, pas de textos).
URL:https://www.therapie-chamanisme.fr/event/stage-de-base-chamanisme-europeen-14/
LOCATION:Le Grand Mouligné\, 701 Chemin de Talives\, Montpezat\, Lot-et-Garonne\, 47360\, France
CATEGORIES:Calendrier
END:VEVENT
END:VCALENDAR