BEGIN:VCALENDAR
VERSION:2.0
PRODID:-//Cerf qui Chante - ECPv6.11.2//NONSGML v1.0//EN
CALSCALE:GREGORIAN
METHOD:PUBLISH
X-ORIGINAL-URL:https://www.therapie-chamanisme.fr
X-WR-CALDESC:Évènements pour Cerf qui Chante
REFRESH-INTERVAL;VALUE=DURATION:PT1H
X-Robots-Tag:noindex
X-PUBLISHED-TTL:PT1H
BEGIN:VTIMEZONE
TZID:Europe/Helsinki
BEGIN:DAYLIGHT
TZOFFSETFROM:+0200
TZOFFSETTO:+0300
TZNAME:EEST
DTSTART:20250330T010000
END:DAYLIGHT
BEGIN:STANDARD
TZOFFSETFROM:+0300
TZOFFSETTO:+0200
TZNAME:EET
DTSTART:20251026T010000
END:STANDARD
END:VTIMEZONE
BEGIN:VEVENT
DTSTART;TZID=Europe/Helsinki:20251212T180000
DTEND;TZID=Europe/Helsinki:20251214T170000
DTSTAMP:20260424T213953
CREATED:20250109T152025Z
LAST-MODIFIED:20250109T152025Z
UID:5325-1765562400-1765731600@www.therapie-chamanisme.fr
SUMMARY:Stage avancé “La mort et le deuil”
DESCRIPTION:Prérequis: avoir suivi le stage de base avec Cerf qui Chante. \nCe stage se déroule chez nous à Montpezat d’Agenais (47)\, dans le Sud Ouest de la France. \nStage avec la pratique de la hutte de sudation. \n  \nUn stage fortement lié à notre incarnation\, et celle de nos proches. \nNous sommes des êtres mortels. Un jour nous allons mourir. Nous ne pouvons pas en échapper. \nNotre propre mort peut nous faire peur\, mais aussi notre vie. Les deux peurs nous empêche de vivre. \nLa mort d’un proche peut être difficile à accepter\, elle peut bouleverser notre vie. Comment mieux vivre le deuil et passer à l’étape suivante? \nLe deuil ne concerne pas que les personnes qui sont décédé. Il y a le deuil de vie de couple\, des amis déménagés\, des lieux\, des situations\, de notre enfance\, etc. \nQu’est ce que la vie ? Pourquoi nous sommes là ? Est-ce que nous avons une mission ?… Voilà des questions existentielles pour lesquelles des réponses trouveront le chemin pendant ce stage. \nSe libérer de la peur de la mort et de toutes sortes d’autres peurs et mieux vivre les deuils. \nVoilà ce qui nous aide à vivre intensément et libre. \nÊtre bien avec la mort\, c’est être bien dans la vie. \n \nAu programme :\n\nEnseignements sur la vie et la mort\nVoyages chamaniques vers des vies antérieures\nContacter des âmes et/ou l’esprit des défunts\nCercle de tambours pour les morts\nTravail sur le deuil avec la nature\, dans la nature\nCérémonie de deuil avec offrandes\nHutte de sudation dans le thème de la mort et la renaissance\nEmbrasser la mort\, embrasser la vie\n\n\n\n          \n  \n\n\nInformations pratiques :\n\nLe lieu : Chez nous à Montpezat d'Agenais (cliquez)\n\nDu vendredi 12 décembre 2025 à 18h au dimanche 14 décembre à 17h.\nPrix du stage tout compris – pension complète (incluant 2 nuitées et 6 repas principalement biologiques et locales):\n270€ en emplacement camping (180€ stage + 90€ hébergement)\n290€ en dortoir ( 180€ stage + 110€ hébergement)\n320€ / personne en chambre individuelle ou couple (stage 180€ + hébergement 140€)\nLe stage dans le cadre de la formation correspond à 140€.\nInscription possible tant que des places sont disponible.\nPetit groupe limitée à 12 personnes.\n\nS’inscrire en cliquant ici en précisons nom\, prénom\, courriel\, téléphone\, ville\, nom et date du stage.\nL’inscription sera seulement validée à la réception des arrhes: \nun chèque de 100€ à l’ordre de Yves Deconinck\, envoyé à l’adresse postale suivante:\nYves Deconinck\, 614 Chemin de Talives\, 47360 Montpezat d’Agenais\nSur demande les arrhes peuvent être payé par virement.\n\nEn cas d'annulation de notre part\, nous vous rembourserons la totalité (nous n'encaissons pas le chèque) \nou\, si vous le voulez\, gardons les arrhes pour un autre stage. \n\nEn cas d'annulation de votre part\, les arrhes (100€) ne seront pas remboursées\, \nmais si vous voulez faire le stage ou un camp plus tard\, vous aurez le droit à une réduction de 50€.  \n\nPour toute question n’hésitez pas à me contacter au 09 79 95 76 76 (tél. fixe\, pas de textos).
URL:https://www.therapie-chamanisme.fr/event/stage-avance-la-mort-et-le-deuil-2/
CATEGORIES:Calendrier
END:VEVENT
END:VCALENDAR